BEGIN:VCALENDAR
VERSION:2.0
PRODID:-//Public Speaking Coach Bend, OR - Joanne Mathews Consulting - ECPv4.9.4//NONSGML v1.0//EN
CALSCALE:GREGORIAN
METHOD:PUBLISH
X-WR-CALNAME:Public Speaking Coach Bend, OR - Joanne Mathews Consulting
X-ORIGINAL-URL:http://jmathewsconsulting.com
X-WR-CALDESC:Events for Public Speaking Coach Bend, OR - Joanne Mathews Consulting
BEGIN:VTIMEZONE
TZID:"UTC"
BEGIN:STANDARD
TZOFFSETFROM:+0000
TZOFFSETTO:+0000
TZNAME:UTC
DTSTART:20190101T000000
END:STANDARD
END:VTIMEZONE
BEGIN:VEVENT
DTSTART;VALUE=DATE:20190702
DTEND;VALUE=DATE:20190801
DTSTAMP:20260421T093935
CREATED:20190624T171601Z
LAST-MODIFIED:20190717T223202Z
UID:562-1562050800-1564556399@jmathewsconsulting.com
SUMMARY:Weekly Public Speaking Classes - Session 1
DESCRIPTION:Four-week public speaking class on Tuesdays. Class time is from 12 p.m. – 2 p.m. Feel free to bring a lunch! \nThis course will help you learn how to zero in on your message in a way that is meaningful for you and resonates with your audience. We will explore how to really know your audience\, the infinite variety of ways you can express your message\, and tactics to help you gauge your effectiveness. All in a fun\, interactive\, and supportive environment. \n  \n
URL:http://jmathewsconsulting.com/event/public-speaking-classes/
LOCATION:EDCO Conference Room\, 705 SW Bonnett Way\, Suite 1000\, Bend\, OR\, 97702\, United States
CATEGORIES:Public Speaking
ATTACH;FMTTYPE=image/png:http://jmathewsconsulting.com/wp-content/uploads/2019/02/Home-1.png
END:VEVENT
END:VCALENDAR