BEGIN:VCALENDAR
VERSION:2.0
PRODID:-//Public Speaking Coach Bend, OR - Joanne Mathews Consulting - ECPv4.9.4//NONSGML v1.0//EN
CALSCALE:GREGORIAN
METHOD:PUBLISH
X-WR-CALNAME:Public Speaking Coach Bend, OR - Joanne Mathews Consulting
X-ORIGINAL-URL:http://jmathewsconsulting.com
X-WR-CALDESC:Events for Public Speaking Coach Bend, OR - Joanne Mathews Consulting
BEGIN:VTIMEZONE
TZID:"UTC"
BEGIN:STANDARD
TZOFFSETFROM:+0000
TZOFFSETTO:+0000
TZNAME:UTC
DTSTART:20190101T000000
END:STANDARD
END:VTIMEZONE
BEGIN:VEVENT
DTSTART;TZID="UTC":20191029T083000
DTEND;TZID="UTC":20191029T113000
DTSTAMP:20260421T084545
CREATED:20190731T162316Z
LAST-MODIFIED:20190807T233154Z
UID:610-1572337800-1572348600@jmathewsconsulting.com
SUMMARY:Interpersonal Communication: Giving/Receiving Feedback & Conflict
DESCRIPTION:As we grow in our professional careers\, we need critical skills like managing conflict and giving and receiving feedback. Learn techniques to be more effective in helping others learn and grow\, and how to view conflict as an opportunity\, not something to avoid. \nSign up through COCC. \n  \n
URL:http://jmathewsconsulting.com/event/interpersonal-communication-giving-receiving-feedback-conflict/
LOCATION:COCC\, 2600 NW College Way\, Bend\, OR\, 97703
ATTACH;FMTTYPE=image/png:http://jmathewsconsulting.com/wp-content/uploads/2019/02/home-2.png
END:VEVENT
END:VCALENDAR